Workbook

Sheet Раздел I
A1: =CONCATENATE("Реализация субъектами Российской Федерации мероприятий сводного плана в ",'Data Import'!$A$1) -> Реализация субъектами Российской Федерации мероприятий сводного плана в 2025 г.
A2: № | B2: Субьект Российской Федерации | C2: I. Нормативное правовое регулирование в сфере обеспечения доступности для инвалидовобъектов транспортной инфраструктуры, транспортных средств и предоставляемых на них транспортных услуг
C3: 4. Определение и нормативно-правовое закрепление базовых требований доступности транспортного комплекса для инвалидов с учетом современных технических решений
C4: Ожидаемый результат: Принятие региональных нормативных правовых актов и других документов нормативного характера, включая при необходимости актуализацию региональной нормативной, правовой и методической базы в сфере транспорта в части обеспечения доступности для инвалидов объектов транспортной инфраструктуры, транспортных средств и предоставляемых на них транспортных услуг в соответствии с вновь принятыми нормативными правовыми актами федерального уровня
C5: Наличие в региональном сводном плане или ином документе соответствующего мероприятия | E5: =CONCATENATE("Велась ли в ",'Data Import'!$A$1," работа по данному направлению") -> Велась ли в 2025 г. работа по данному направлению
C6: Нет | D6: Да | E6: Нет | F6: Отсутствовала необходимость (обоснование) | G6: Да
G7: Направление регулирования* | H7: Реквизиты актуализированных документов (вид документа, наименование, дата и номер принятия или плантруемые сроки принятия)
A8: 1 | B8: 2 | C8: 3 | D8: 4 | E8: 5 | F8: 6 | G8: 7 | H8: 8
A9: 1 | B9: Амурская область | C9: =IF('Data Import'!$D$2="Нет","+","") | D9: =IF('Data Import'!$D$2="Да","+","") -> + | E9: =IF('Data Import'!$D$3="Нет","+","") | F9: =IF('Data Import'!$D$4<>"",'Data Import'!$D$4,"") | G9: =IF('Data Import'!$D$5<>"",'Data Import'!$D$5,"") | H9: =IF('Data Import'!$D$6<>"",'Data Import'!$D$6,"")
A10: 2 | B10: Еврейская автономная область | C10: =IF('Data Import'!$E$2="Нет","+","") | D10: =IF('Data Import'!$E$2="Да","+","") | E10: =IF('Data Import'!$E$3="Нет","+","") | F10: =IF('Data Import'!$E$4<>"",'Data Import'!$E$4,"") | G10: =IF('Data Import'!$E$5<>"",'Data Import'!$E$5,"") | H10: =IF('Data Import'!$E$6<>"",'Data Import'!$E$6,"")
A11: 3 | B11: Камчатский край | C11: =IF('Data Import'!$F$2="Нет","+","") | D11: =IF('Data Import'!$F$2="Да","+","") | E11: =IF('Data Import'!$F$3="Нет","+","") | F11: =IF('Data Import'!$F$4<>"",'Data Import'!$F$4,"") | G11: =IF('Data Import'!$F$5<>"",'Data Import'!$F$5,"") | H11: =IF('Data Import'!$F$6<>"",'Data Import'!$F$6,"")
A12: 4 | B12: Магаданская область | C12: =IF('Data Import'!$G$2="Нет","+","") | D12: =IF('Data Import'!$G$2="Да","+","") -> + | E12: =IF('Data Import'!$G$3="Нет","+","") | F12: =IF('Data Import'!$G$4<>"",'Data Import'!$G$4,"") | G12: =IF('Data Import'!$G$5<>"",'Data Import'!$G$5,"") -> Предоставление транспортной услуги "социальное такси" маломобильным категориям гражданам, проживающим в Магаданской области, а также гражданам, нуждающимся в заместительной почечной терапии в амбулаторных условиях медицинских организаций Магаданской области | H12: =IF('Data Import'!$G$6<>"",'Data Import'!$G$6,"") -> Постановление Правительства Магаданской области от 18.06.2014 N 509-пп (ред. от 17.06.2026) "Об утверждении Положения о предоставлении транспортной услуги "социальное такси" отдельным категориям граждан, проживающим в Магаданской области"
A13: 5 | B13: Приморский край | C13: =IF('Data Import'!$H$2="Нет","+","") -> + | D13: =IF('Data Import'!$H$2="Да","+","") | E13: =IF('Data Import'!$H$3="Нет","+","") -> + | F13: =IF('Data Import'!$H$4<>"",'Data Import'!$H$4,"") | G13: =IF('Data Import'!$H$5<>"",'Data Import'!$H$5,"") | H13: =IF('Data Import'!$H$6<>"",'Data Import'!$H$6,"")
A14: 6 | B14: Республика Саха (Якутия) | C14: =IF('Data Import'!$I$2="Нет","+","") | D14: =IF('Data Import'!$I$2="Да","+","") -> + | E14: =IF('Data Import'!$I$3="Нет","+","") | F14: =IF('Data Import'!$I$4<>"",'Data Import'!$I$4,"") -> вновь принятые акты федерального уровня не поступали | G14: =IF('Data Import'!$I$5<>"",'Data Import'!$I$5,"") | H14: =IF('Data Import'!$I$6<>"",'Data Import'!$I$6,"")
A15: 7 | B15: Сахалинская область | C15: =IF('Data Import'!$J$2="Нет","+","") | D15: =IF('Data Import'!$J$2="Да","+","") -> + | E15: =IF('Data Import'!$J$3="Нет","+","") | F15: =IF('Data Import'!$J$4<>"",'Data Import'!$J$4,"") -> В связи с отсутствием разработанных новых правовых актов федерального уровня актуализация действующей региональной нормативной, правовой и методической базы в сфере транспорта в части обеспечения доступности для инвалидов объектов транспортной инфраструктуры, транспортных средств и предоставляемых на них транспортных услуг, не потребовалась. | G15: =IF('Data Import'!$J$5<>"",'Data Import'!$J$5,"") | H15: =IF('Data Import'!$J$6<>"",'Data Import'!$J$6,"")
A16: 8 | B16: Хабаровский край | C16: =IF('Data Import'!$K$2="Нет","+","") | D16: =IF('Data Import'!$K$2="Да","+","") -> + | E16: =IF('Data Import'!$K$3="Нет","+","") | F16: =IF('Data Import'!$K$4<>"",'Data Import'!$K$4,"") | G16: =IF('Data Import'!$K$5<>"",'Data Import'!$K$5,"") -> постановление Правительства Хабаровского края от 30.12.2015 № 491-пр "Об утверждении государственной программы Хабаровского края "Доступная среда" | H16: =IF('Data Import'!$K$6<>"",'Data Import'!$K$6,"") -> постановление Правительства Хабаровского края от 30.12.2015 № 491-пр "Об утверждении государственной программы Хабаровского края "Доступная среда"
A17: 9 | B17: Чукотский автономный округ | C17: =IF('Data Import'!$L$2="Нет","+","") | D17: =IF('Data Import'!$L$2="Да","+","") -> + | E17: =IF('Data Import'!$L$3="Нет","+","") -> + | F17: =IF('Data Import'!$L$4<>"",'Data Import'!$L$4,"") | G17: =IF('Data Import'!$L$5<>"",'Data Import'!$L$5,"") | H17: =IF('Data Import'!$L$6<>"",'Data Import'!$L$6,"")
A18: 10 | B18: Кировская область | C18: =IF('Data Import'!$M$2="Нет","+","") | D18: =IF('Data Import'!$M$2="Да","+","") -> + | E18: =IF('Data Import'!$M$3="Нет","+","") | F18: =IF('Data Import'!$M$4<>"",'Data Import'!$M$4,"") | G18: =IF('Data Import'!$M$5<>"",'Data Import'!$M$5,"") -> Предоставление льготного проезда для инвалидов на автомобильном и электрифицированном транспорте городского сообщения и автомобильном транспорте пригородного сообщения на территории Кировской области | H18: =IF('Data Import'!$M$6<>"",'Data Import'!$M$6,"") -> Постановление Правительства Кировской области от 30.12.2014 № 19/273 "О льготном проезде отдельных категорий граждан, проживающих на территории Кировской области"
A19: 11 | B19: Нижегородская область | C19: =IF('Data Import'!$N$2="Нет","+","") -> + | D19: =IF('Data Import'!$N$2="Да","+","") | E19: =IF('Data Import'!$N$3="Нет","+","") -> + | F19: =IF('Data Import'!$N$4<>"",'Data Import'!$N$4,"") | G19: =IF('Data Import'!$N$5<>"",'Data Import'!$N$5,"") | H19: =IF('Data Import'!$N$6<>"",'Data Import'!$N$6,"") -> Закон Нижегородской области от 1 февраля 2017 г. № 11-З "Об организации регулярных перевозок пассажиров и багажа автомобильным транспортом и городским наземным электрическим транспортом в Нижегородской области"
A20: 12 | B20: Оренбургская область | C20: =IF('Data Import'!$O$2="Нет","+","") -> + | D20: =IF('Data Import'!$O$2="Да","+","") | E20: =IF('Data Import'!$O$3="Нет","+","") -> + | F20: =IF('Data Import'!$O$4<>"",'Data Import'!$O$4,"") | G20: =IF('Data Import'!$O$5<>"",'Data Import'!$O$5,"") | H20: =IF('Data Import'!$O$6<>"",'Data Import'!$O$6,"")
A21: 13 | B21: Пензенская область | C21: =IF('Data Import'!$P$2="Нет","+","") -> + | D21: =IF('Data Import'!$P$2="Да","+","") | E21: =IF('Data Import'!$P$3="Нет","+","") -> + | F21: =IF('Data Import'!$P$4<>"",'Data Import'!$P$4,"") | G21: =IF('Data Import'!$P$5<>"",'Data Import'!$P$5,"") | H21: =IF('Data Import'!$P$6<>"",'Data Import'!$P$6,"")
A22: 14 | B22: Пермский край | C22: =IF('Data Import'!$Q$2="Нет","+","") | D22: =IF('Data Import'!$Q$2="Да","+","") -> + | E22: =IF('Data Import'!$Q$3="Нет","+","") | F22: =IF('Data Import'!$Q$4<>"",'Data Import'!$Q$4,"") -> Базовые требования доступности транспортного комплекса для инвалидов с учетом современных технических решений закреплены распоряжением Правительства Пермского края от 21 октября 2015 г. № 350-рп «Об утверждении плана мероприятий («дорожной карты») по повышению значений показателей доступности для инвалидов объектов и услуг в Пермском крае на 2015-2030 годы». | G22: =IF('Data Import'!$Q$5<>"",'Data Import'!$Q$5,"") | H22: =IF('Data Import'!$Q$6<>"",'Data Import'!$Q$6,"")
A23: 15 | B23: Республика Башкортостан | C23: =IF('Data Import'!$R$2="Нет","+","") -> + | D23: =IF('Data Import'!$R$2="Да","+","") | E23: =IF('Data Import'!$R$3="Нет","+","") -> + | F23: =IF('Data Import'!$R$4<>"",'Data Import'!$R$4,"") | G23: =IF('Data Import'!$R$5<>"",'Data Import'!$R$5,"") | H23: =IF('Data Import'!$R$6<>"",'Data Import'!$R$6,"")
A24: 16 | B24: Республика Марий Эл | C24: =IF('Data Import'!$S$2="Нет","+","") | D24: =IF('Data Import'!$S$2="Да","+","") -> + | E24: =IF('Data Import'!$S$3="Нет","+","") | F24: =IF('Data Import'!$S$4<>"",'Data Import'!$S$4,"") -> актуализация региональной нормативной, правовой и методической базы в сфере транспорта в части обеспечения доступности для инвалидов объектов транспортной инфраструктуры, транспортных средств и предоставляемых на них транспортных услуг в соответствии с вновь принятыми нормативными правовыми актами федерального уровня в 2025 г. не требовалась | G24: =IF('Data Import'!$S$5<>"",'Data Import'!$S$5,"") | H24: =IF('Data Import'!$S$6<>"",'Data Import'!$S$6,"")
A25: 17 | B25: Республика Мордовия | C25: =IF('Data Import'!$T$2="Нет","+","") | D25: =IF('Data Import'!$T$2="Да","+","") | E25: =IF('Data Import'!$T$3="Нет","+","") | F25: =IF('Data Import'!$T$4<>"",'Data Import'!$T$4,"") | G25: =IF('Data Import'!$T$5<>"",'Data Import'!$T$5,"") | H25: =IF('Data Import'!$T$6<>"",'Data Import'!$T$6,"")
A26: 18 | B26: Республика Татарстан | C26: =IF('Data Import'!$U$2="Нет","+","") | D26: =IF('Data Import'!$U$2="Да","+","") | E26: =IF('Data Import'!$U$3="Нет","+","") | F26: =IF('Data Import'!$U$4<>"",'Data Import'!$U$4,"") | G26: =IF('Data Import'!$U$5<>"",'Data Import'!$U$5,"") | H26: =IF('Data Import'!$U$6<>"",'Data Import'!$U$6,"")
A27: 19 | B27: Самарская область | C27: =IF('Data Import'!$V$2="Нет","+","") | D27: =IF('Data Import'!$V$2="Да","+","") | E27: =IF('Data Import'!$V$3="Нет","+","") | F27: =IF('Data Import'!$V$4<>"",'Data Import'!$V$4,"") | G27: =IF('Data Import'!$V$5<>"",'Data Import'!$V$5,"") | H27: =IF('Data Import'!$V$6<>"",'Data Import'!$V$6,"")
A28: 20 | B28: Саратовская область | C28: =IF('Data Import'!$W$2="Нет","+","") -> + | D28: =IF('Data Import'!$W$2="Да","+","") | E28: =IF('Data Import'!$W$3="Нет","+","") -> + | F28: =IF('Data Import'!$W$4<>"",'Data Import'!$W$4,"") | G28: =IF('Data Import'!$W$5<>"",'Data Import'!$W$5,"") | H28: =IF('Data Import'!$W$6<>"",'Data Import'!$W$6,"")
A29: 21 | B29: Удмуртская Республика | C29: =IF('Data Import'!$X$2="Нет","+","") | D29: =IF('Data Import'!$X$2="Да","+","") | E29: =IF('Data Import'!$X$3="Нет","+","") | F29: =IF('Data Import'!$X$4<>"",'Data Import'!$X$4,"") | G29: =IF('Data Import'!$X$5<>"",'Data Import'!$X$5,"") | H29: =IF('Data Import'!$X$6<>"",'Data Import'!$X$6,"")
A30: 22 | B30: Ульяновская область | C30: =IF('Data Import'!$Y$2="Нет","+","") | D30: =IF('Data Import'!$Y$2="Да","+","") -> + | E30: =IF('Data Import'!$Y$3="Нет","+","") | F30: =IF('Data Import'!$Y$4<>"",'Data Import'!$Y$4,"") | G30: =IF('Data Import'!$Y$5<>"",'Data Import'!$Y$5,"") -> 1. Для повышения комфортности и качества жизни населения Ульяновской области посредством обеспечения устойчивого функционирования транспортной системы, обеспечения доступности общественного транспорта для населения. 2. Утверждён региональный стандарт транспортного обслуживания населения Ульяновской области на период 2026-2030 годо, включающий показатели, характеризующие комфортность регулярных перевозок пассажиров в части передвижения, в том числе для инвалидов и других групп маломобильных пассажиров. | H30: =IF('Data Import'!$Y$6<>"",'Data Import'!$Y$6,"") -> 1. Распоряжение Министерства транспорта Ульяновской области от 18.09.2025 № 130-од "Об утверждении программы развития (модернизации) общественного транспорта Ульяновской области". 2. Постановление Правительства Ульяновской области от 18.12.2025 № 734-П "Об утверждении регионального стандарта транспортного обслуживания населения Ульяновской области на период 2026-2030 годов".
A31: 23 | B31: Чувашская Республика - Чувашия | C31: =IF('Data Import'!$Z$2="Нет","+","") | D31: =IF('Data Import'!$Z$2="Да","+","") -> + | E31: =IF('Data Import'!$Z$3="Нет","+","") | F31: =IF('Data Import'!$Z$4<>"",'Data Import'!$Z$4,"") | G31: =IF('Data Import'!$Z$5<>"",'Data Import'!$Z$5,"") | H31: =IF('Data Import'!$Z$6<>"",'Data Import'!$Z$6,"")
A32: 24 | B32: Архангельская область | C32: =IF('Data Import'!$AA$2="Нет","+","") -> + | D32: =IF('Data Import'!$AA$2="Да","+","") | E32: =IF('Data Import'!$AA$3="Нет","+","") -> + | F32: =IF('Data Import'!$AA$4<>"",'Data Import'!$AA$4,"") | G32: =IF('Data Import'!$AA$5<>"",'Data Import'!$AA$5,"") | H32: =IF('Data Import'!$AA$6<>"",'Data Import'!$AA$6,"")
A33: 25 | B33: Вологодская область | C33: =IF('Data Import'!$AB$2="Нет","+","") | D33: =IF('Data Import'!$AB$2="Да","+","") -> + | E33: =IF('Data Import'!$AB$3="Нет","+","") | F33: =IF('Data Import'!$AB$4<>"",'Data Import'!$AB$4,"") | G33: =IF('Data Import'!$AB$5<>"",'Data Import'!$AB$5,"") -> Транспортное обслуживание | H33: =IF('Data Import'!$AB$6<>"",'Data Import'!$AB$6,"") -> Постановление правительства Вологодской области от 16 апреля 2025 г. N 589 "ОБ УТВЕРЖДЕНИИ РЕГИОНАЛЬНОГО КОМПЛЕКСНОГО ПЛАНА ТРАНСПОРТНОГО ОБСЛУЖИВАНИЯ НАСЕЛЕНИЯ ВОЛОГОДСКОЙ ОБЛАСТИ" Постановление правительства Вологодской области от 17 июня 2024 г. N 712 ОБ УТВЕРЖДЕНИИ РЕГИОНАЛЬНОГО СТАНДАРТА ТРАНСПОРТНОГО ОБСЛУЖИВАНИЯ НАСЕЛЕНИЯ ВОЛОГОДСКОЙ ОБЛАСТИ
A34: 26 | B34: г. Санкт-Петербург | C34: =IF('Data Import'!$AC$2="Нет","+","") | D34: =IF('Data Import'!$AC$2="Да","+","") -> + | E34: =IF('Data Import'!$AC$3="Нет","+","") | F34: =IF('Data Import'!$AC$4<>"",'Data Import'!$AC$4,"") | G34: =IF('Data Import'!$AC$5<>"",'Data Import'!$AC$5,"") -> 1. Оснащение подвижного состава городского наземного транспорта общего пользования с учетом требований ГОСТ Р 59431-2024. 2. Предоставление льготного проезда. | H34: =IF('Data Import'!$AC$6<>"",'Data Import'!$AC$6,"") -> 1. ВРИО председателя Комитета по транспорту Львовым А.В. 18.04.2025 утверждены Методические рекомендации по установлению требований к подвижному составу в целях заключения государственного контракта на выполнение работ, связанных с осуществлением регулярных перевозок пассажиров и багажа автомобильным транспортом по регулируемым тарифам, с Санкт-Петербургским государственным унитарным предприятием пассажирского автомобильного транспорта в соответствии с решением протокола заседания Правительства Российской Федерации от 18.12.2024 № 39 (включено требование об обязательном наличии в автобусах система радиоинформирования и звукового ориентирования для инвалидов по зрению). 2.Постановление Правительства Санкт-Петербурга от 26.08.2025 № 615 «О внесении изменений в постановление Правительства Санкт-Петербурга от 20.05.2016 № 385».
A35: 27 | B35: Калининградская область | C35: =IF('Data Import'!$AD$2="Нет","+","") | D35: =IF('Data Import'!$AD$2="Да","+","") -> + | E35: =IF('Data Import'!$AD$3="Нет","+","") | F35: =IF('Data Import'!$AD$4<>"",'Data Import'!$AD$4,"") | G35: =IF('Data Import'!$AD$5<>"",'Data Import'!$AD$5,"") -> Повышение доступности дорожной и транспортной инфраструктуры региона | H35: =IF('Data Import'!$AD$6<>"",'Data Import'!$AD$6,"") -> Распоряжение Правительства Калининградской области от 25 декабря 2015 г. N 169-рп "Об утверждении плана мероприятий ("дорожной карты") "Повышение доступности приоритетных объектов и услуг в приоритетных сферах жизнедеятельности инвалидов и других маломобильных групп населения (формирование доступной среды) в Калининградской области на 2015-2025 годы"
A36: 28 | B36: Ленинградская область | C36: =IF('Data Import'!$AE$2="Нет","+","") | D36: =IF('Data Import'!$AE$2="Да","+","") -> + | E36: =IF('Data Import'!$AE$3="Нет","+","") | F36: =IF('Data Import'!$AE$4<>"",'Data Import'!$AE$4,"") | G36: =IF('Data Import'!$AE$5<>"",'Data Import'!$AE$5,"") -> Предоставление субсидий автотранспортным организациям на закупку автобусов, обеспечивающих доступность маломобильных групп граждан | H36: =IF('Data Import'!$AE$6<>"",'Data Import'!$AE$6,"") -> Постановление Правительства Ленинградской области от 29 июня 2020 года № 455 "Об утверждении Порядка предоставления субсидии на возмещение части затрат юридическим лицам, индивидуальным предпринимателям, осуществляющим деятельность на территории Ленинградской области, на закупку автобусов в рамках государственной программы Ленинградской области «Социальная поддержка отдельных категорий граждан в Ленинградской области»"
A37: 29 | B37: Мурманская область | C37: =IF('Data Import'!$AF$2="Нет","+","") | D37: =IF('Data Import'!$AF$2="Да","+","") -> + | E37: =IF('Data Import'!$AF$3="Нет","+","") -> + | F37: =IF('Data Import'!$AF$4<>"",'Data Import'!$AF$4,"") -> Все нормативно-правовые акты приведены в соответствие. | G37: =IF('Data Import'!$AF$5<>"",'Data Import'!$AF$5,"") | H37: =IF('Data Import'!$AF$6<>"",'Data Import'!$AF$6,"")
A38: 30 | B38: Ненецкий автономный округ | C38: =IF('Data Import'!$AG$2="Нет","+","") | D38: =IF('Data Import'!$AG$2="Да","+","") -> + | E38: =IF('Data Import'!$AG$3="Нет","+","") -> + | F38: =IF('Data Import'!$AG$4<>"",'Data Import'!$AG$4,"") | G38: =IF('Data Import'!$AG$5<>"",'Data Import'!$AG$5,"") | H38: =IF('Data Import'!$AG$6<>"",'Data Import'!$AG$6,"")
A39: 31 | B39: Новгородская область | C39: =IF('Data Import'!$AH$2="Нет","+","") -> + | D39: =IF('Data Import'!$AH$2="Да","+","") | E39: =IF('Data Import'!$AH$3="Нет","+","") -> + | F39: =IF('Data Import'!$AH$4<>"",'Data Import'!$AH$4,"") | G39: =IF('Data Import'!$AH$5<>"",'Data Import'!$AH$5,"") | H39: =IF('Data Import'!$AH$6<>"",'Data Import'!$AH$6,"")
A40: 32 | B40: Псковская область | C40: =IF('Data Import'!$AI$2="Нет","+","") -> + | D40: =IF('Data Import'!$AI$2="Да","+","") | E40: =IF('Data Import'!$AI$3="Нет","+","") -> + | F40: =IF('Data Import'!$AI$4<>"",'Data Import'!$AI$4,"") | G40: =IF('Data Import'!$AI$5<>"",'Data Import'!$AI$5,"") | H40: =IF('Data Import'!$AI$6<>"",'Data Import'!$AI$6,"")
...

Sheet Раздел II 
A1: =CONCATENATE("Реализация субъектами Российской Федерации мероприятий сводного плана в ",'Data Import'!$A$1) -> Реализация субъектами Российской Федерации мероприятий сводного плана в 2025 г.
A2: № | B2: Субьект Российской Федерации | C2: II. Внедрение новых организационно-управленческих решений в сфере создания доступной среды на транспорте
C3: 6. Создание и развитие служб «социального такси» во всех субъектах Российской Федерации
C4: Ожидаемый результат: Субъектами Российской Федерации и органами местного самоуправления установлены правила предоставления лицам с инвалидностью услуг «социального такси», а также приняты меры по их реализации
C5: Наличие в регионе службы "социальное такси" | K5: =CONCATENATE("Велась ли в ",'Data Import'!$A$1," работа по данному направлению") -> Велась ли в 2025 г. работа по данному направлению | N5: Реквизиты документов, определяющих правила оказания услуг «социального такси» (вид документа, наименование, дата и номер принятия) | O5: Количество муниципальных образований в регионе | P5: Количество муниципальных образований в регионе, в которых предоставляются услуги «социального такси» | Q5: Количество транспортных средств, шт | S5: Количество совершенных поездок лицами - получателями услуг «социального такси», ед. | U5: Количество водителей, чел
C6: Нет | D6: Не требуется | E6: Да
E7: Наличие в региональном сводном плане или ином документе соответствующего мероприятия
E8: Нет | F8: Да | U8: Всего | W8: Прошедших обучение / инструктирование по оказанию инвалидам ситуационной помощи на транспорте | Y8: =CONCATENATE("Планируемых к обучению / инструктированию по оказанию инвалидам ситуационной помощи на транспорте в ",LEFT('Data Import'!$A$1,4)+1," году") -> Планируемых к обучению / инструктированию по оказанию инвалидам ситуационной помощи на транспорте в 2026 году
F9: Наличие целевого показателя в региональном сводном плане или ином документе
F10: Нет | G10: Да | K10: Нет | L10: Отсутствовала необходимость (обоснование) | M10: Да
G11: Наименование целевого показателя | H11: Единицы измерения | I11: =CONCATENATE("Плановое значение целевого показателя на ",'Data Import'!$A$1) -> Плановое значение целевого показателя на 2025 г. | J11: =CONCATENATE("Фактическое значение целевого показателя на ",'Data Import'!$A$1) -> Фактическое значение целевого показателя на 2025 г. | Q11: =CONCATENATE("в ",LEFT('Data Import'!$A$1,4)-1," году") -> в 2024 году | R11: =CONCATENATE("в ",LEFT('Data Import'!$A$1,4)," году") -> в 2025 году | S11: =CONCATENATE("в ",LEFT('Data Import'!$A$1,4)-1," году") -> в 2024 году | T11: =CONCATENATE("в ",LEFT('Data Import'!$A$1,4)," году") -> в 2025 году | U11: =CONCATENATE("в ",LEFT('Data Import'!$A$1,4)-1," году") -> в 2024 году | V11: =CONCATENATE("в ",LEFT('Data Import'!$A$1,4)," году") -> в 2025 году | W11: =CONCATENATE("в ",LEFT('Data Import'!$A$1,4)-1," году") -> в 2024 году | X11: =CONCATENATE("в ",LEFT('Data Import'!$A$1,4)," году") -> в 2025 году
A12: 1 | B12: 2 | C12: 3 | D12: 4 | E12: 5 | F12: 6 | G12: 7 | H12: 8 | I12: 9 | J12: 10 | K12: 11 | L12: 12 | M12: 13 | N12: 14 | O12: 15 | P12: 16 | Q12: 17 | R12: 18 | S12: 19 | T12: 20 | U12: 21 | V12: 22 | W12: 23 | X12: 24 | Y12: 25
A13: 1 | B13: Амурская область | C13: =IF('Data Import'!$D$7="Нет","+","") | D13: =IF('Data Import'!$D$7="Не требуется","+","") | E13: =IF('Data Import'!$D$8="Нет","+","") | F13: =IF('Data Import'!$D$9="Нет","+","") -> + | G13: =IF('Data Import'!$D$10<>"",'Data Import'!$D$10,"") | H13: =IF('Data Import'!$D$11<>"",'Data Import'!$D$11,"") | I13: =IF('Data Import'!$D$12<>"",'Data Import'!$D$12,"") | J13: =IF('Data Import'!$D$13<>"",'Data Import'!$D$13,"") | K13: =IF('Data Import'!$D$14="Нет","+","") | L13: =IF('Data Import'!$D$15<>"",'Data Import'!$D$15,"") | M13: =IF('Data Import'!$D$14="Да","+","") -> + | N13: =IF('Data Import'!$D$16<>"",'Data Import'!$D$16,"") -> Постановлением Правительства Амурской области от 08.08.2019 № 443 | O13: =IF('Data Import'!$D$17<>"",'Data Import'!$D$17,"") -> 29 | P13: =IF('Data Import'!$D$18<>"",'Data Import'!$D$18,"") -> 2 | Q13: =IF('Data Import'!$D$19<>"",'Data Import'!$D$19,"") -> 14 | R13: =IF('Data Import'!$D$20<>"",'Data Import'!$D$20,"") -> 14 | S13: =IF('Data Import'!$D$21<>"",'Data Import'!$D$21,"") | T13: =IF('Data Import'!$D$22<>"",'Data Import'!$D$22,"") | U13: =IF('Data Import'!$D$23<>"",'Data Import'!$D$23,"") | V13: =IF('Data Import'!$D$24<>"",'Data Import'!$D$24,"") | W13: =IF('Data Import'!$D$25<>"",'Data Import'!$D$25,"") | X13: =IF('Data Import'!$D$26<>"",'Data Import'!$D$26,"") | Y13: =IF('Data Import'!$D$27<>"",'Data Import'!$D$27,"")
A14: 2 | B14: Еврейская автономная область | C14: =IF('Data Import'!$E$7="Нет","+","") | D14: =IF('Data Import'!$E$7="Не требуется","+","") | E14: =IF('Data Import'!$E$8="Нет","+","") | F14: =IF('Data Import'!$E$9="Нет","+","") | G14: =IF('Data Import'!$E$10<>"",'Data Import'!$E$10,"") | H14: =IF('Data Import'!$E$11<>"",'Data Import'!$E$11,"") | I14: =IF('Data Import'!$E$12<>"",'Data Import'!$E$12,"") | J14: =IF('Data Import'!$E$13<>"",'Data Import'!$E$13,"") | K14: =IF('Data Import'!$E$14="Нет","+","") | L14: =IF('Data Import'!$E$15<>"",'Data Import'!$E$15,"") | M14: =IF('Data Import'!$E$14="Да","+","") | N14: =IF('Data Import'!$E$16<>"",'Data Import'!$E$16,"") | O14: =IF('Data Import'!$E$17<>"",'Data Import'!$E$17,"") | P14: =IF('Data Import'!$E$18<>"",'Data Import'!$E$18,"") | Q14: =IF('Data Import'!$E$19<>"",'Data Import'!$E$19,"") | R14: =IF('Data Import'!$E$20<>"",'Data Import'!$E$20,"") | S14: =IF('Data Import'!$E$21<>"",'Data Import'!$E$21,"") | T14: =IF('Data Import'!$E$22<>"",'Data Import'!$E$22,"") | U14: =IF('Data Import'!$E$23<>"",'Data Import'!$E$23,"") | V14: =IF('Data Import'!$E$24<>"",'Data Import'!$E$24,"") | W14: =IF('Data Import'!$E$25<>"",'Data Import'!$E$25,"") | X14: =IF('Data Import'!$E$26<>"",'Data Import'!$E$26,"") | Y14: =IF('Data Import'!$E$27<>"",'Data Import'!$E$27,"")
A15: 3 | B15: Камчатский край | C15: =IF('Data Import'!$F$7="Нет","+","") | D15: =IF('Data Import'!$F$7="Не требуется","+","") | E15: =IF('Data Import'!$F$8="Нет","+","") | F15: =IF('Data Import'!$F$9="Нет","+","") | G15: =IF('Data Import'!$F$10<>"",'Data Import'!$F$10,"") | H15: =IF('Data Import'!$F$11<>"",'Data Import'!$F$11,"") | I15: =IF('Data Import'!$F$12<>"",'Data Import'!$F$12,"") | J15: =IF('Data Import'!$F$13<>"",'Data Import'!$F$13,"") | K15: =IF('Data Import'!$F$14="Нет","+","") | L15: =IF('Data Import'!$F$15<>"",'Data Import'!$F$15,"") | M15: =IF('Data Import'!$F$14="Да","+","") | N15: =IF('Data Import'!$F$16<>"",'Data Import'!$F$16,"") | O15: =IF('Data Import'!$F$17<>"",'Data Import'!$F$17,"") | P15: =IF('Data Import'!$F$18<>"",'Data Import'!$F$18,"") | Q15: =IF('Data Import'!$F$19<>"",'Data Import'!$F$19,"") | R15: =IF('Data Import'!$F$20<>"",'Data Import'!$F$20,"") | S15: =IF('Data Import'!$F$21<>"",'Data Import'!$F$21,"") | T15: =IF('Data Import'!$F$22<>"",'Data Import'!$F$22,"") | U15: =IF('Data Import'!$F$23<>"",'Data Import'!$F$23,"") | V15: =IF('Data Import'!$F$24<>"",'Data Import'!$F$24,"") | W15: =IF('Data Import'!$F$25<>"",'Data Import'!$F$25,"") | X15: =IF('Data Import'!$F$26<>"",'Data Import'!$F$26,"") | Y15: =IF('Data Import'!$F$27<>"",'Data Import'!$F$27,"")
A16: 4 | B16: Магаданская область | C16: =IF('Data Import'!$G$7="Нет","+","") | D16: =IF('Data Import'!$G$7="Не требуется","+","") | E16: =IF('Data Import'!$G$8="Нет","+","") | F16: =IF('Data Import'!$G$9="Нет","+","") | G16: =IF('Data Import'!$G$10<>"",'Data Import'!$G$10,"") -> Создание и развитие служб "социального такси" в Магаданской области | H16: =IF('Data Import'!$G$11<>"",'Data Import'!$G$11,"") -> чел. | I16: =IF('Data Import'!$G$12<>"",'Data Import'!$G$12,"") -> 820 | J16: =IF('Data Import'!$G$13<>"",'Data Import'!$G$13,"") -> 998 | K16: =IF('Data Import'!$G$14="Нет","+","") | L16: =IF('Data Import'!$G$15<>"",'Data Import'!$G$15,"") | M16: =IF('Data Import'!$G$14="Да","+","") -> + | N16: =IF('Data Import'!$G$16<>"",'Data Import'!$G$16,"") -> Постановление Правительства Магаданской области от 18.06.2014 N 509-пп "Об утверждении Положения о предоставлении транспортной услуги "социальное такси" отдельным категориям граждан, проживающим в Магаданской области" | O16: =IF('Data Import'!$G$17<>"",'Data Import'!$G$17,"") -> 9 | P16: =IF('Data Import'!$G$18<>"",'Data Import'!$G$18,"") -> 1 | Q16: =IF('Data Import'!$G$19<>"",'Data Import'!$G$19,"") -> 3 | R16: =IF('Data Import'!$G$20<>"",'Data Import'!$G$20,"") -> 3 | S16: =IF('Data Import'!$G$21<>"",'Data Import'!$G$21,"") -> 26476 | T16: =IF('Data Import'!$G$22<>"",'Data Import'!$G$22,"") -> 28538 | U16: =IF('Data Import'!$G$23<>"",'Data Import'!$G$23,"") -> 4 | V16: =IF('Data Import'!$G$24<>"",'Data Import'!$G$24,"") -> 4 | W16: =IF('Data Import'!$G$25<>"",'Data Import'!$G$25,"") -> 0 | X16: =IF('Data Import'!$G$26<>"",'Data Import'!$G$26,"") -> 0 | Y16: =IF('Data Import'!$G$27<>"",'Data Import'!$G$27,"") -> 0
A17: 5 | B17: Приморский край | C17: =IF('Data Import'!$H$7="Нет","+","") | D17: =IF('Data Import'!$H$7="Не требуется","+","") | E17: =IF('Data Import'!$H$8="Нет","+","") -> + | F17: =IF('Data Import'!$H$9="Нет","+","") | G17: =IF('Data Import'!$H$10<>"",'Data Import'!$H$10,"") | H17: =IF('Data Import'!$H$11<>"",'Data Import'!$H$11,"") | I17: =IF('Data Import'!$H$12<>"",'Data Import'!$H$12,"") | J17: =IF('Data Import'!$H$13<>"",'Data Import'!$H$13,"") | K17: =IF('Data Import'!$H$14="Нет","+","") | L17: =IF('Data Import'!$H$15<>"",'Data Import'!$H$15,"") | M17: =IF('Data Import'!$H$14="Да","+","") | N17: =IF('Data Import'!$H$16<>"",'Data Import'!$H$16,"") -> от 14 декабря 2021 года № 698 «Об утверждении Порядка предоставления срочной социальной услуги «Предоставление транспортной услуги «Социальное такси» получателям социальных услуг поставщиками социальных услуг в Приморском крае» | O17: =IF('Data Import'!$H$17<>"",'Data Import'!$H$17,"") -> 34 | P17: =IF('Data Import'!$H$18<>"",'Data Import'!$H$18,"") -> 33 | Q17: =IF('Data Import'!$H$19<>"",'Data Import'!$H$19,"") -> 247 | R17: =IF('Data Import'!$H$20<>"",'Data Import'!$H$20,"") -> 247 | S17: =IF('Data Import'!$H$21<>"",'Data Import'!$H$21,"") -> 39976 | T17: =IF('Data Import'!$H$22<>"",'Data Import'!$H$22,"") -> 53804 | U17: =IF('Data Import'!$H$23<>"",'Data Import'!$H$23,"") -> 259 | V17: =IF('Data Import'!$H$24<>"",'Data Import'!$H$24,"") -> 247 | W17: =IF('Data Import'!$H$25<>"",'Data Import'!$H$25,"") -> 6 | X17: =IF('Data Import'!$H$26<>"",'Data Import'!$H$26,"") -> 11 | Y17: =IF('Data Import'!$H$27<>"",'Data Import'!$H$27,"") -> 20
A18: 6 | B18: Республика Саха (Якутия) | C18: =IF('Data Import'!$I$7="Нет","+","") | D18: =IF('Data Import'!$I$7="Не требуется","+","") | E18: =IF('Data Import'!$I$8="Нет","+","") -> + | F18: =IF('Data Import'!$I$9="Нет","+","") | G18: =IF('Data Import'!$I$10<>"",'Data Import'!$I$10,"") | H18: =IF('Data Import'!$I$11<>"",'Data Import'!$I$11,"") | I18: =IF('Data Import'!$I$12<>"",'Data Import'!$I$12,"") | J18: =IF('Data Import'!$I$13<>"",'Data Import'!$I$13,"") | K18: =IF('Data Import'!$I$14="Нет","+","") | L18: =IF('Data Import'!$I$15<>"",'Data Import'!$I$15,"") | M18: =IF('Data Import'!$I$14="Да","+","") | N18: =IF('Data Import'!$I$16<>"",'Data Import'!$I$16,"") | O18: =IF('Data Import'!$I$17<>"",'Data Import'!$I$17,"") -> 36 | P18: =IF('Data Import'!$I$18<>"",'Data Import'!$I$18,"") -> 1 | Q18: =IF('Data Import'!$I$19<>"",'Data Import'!$I$19,"") -> 6 | R18: =IF('Data Import'!$I$20<>"",'Data Import'!$I$20,"") -> 6 | S18: =IF('Data Import'!$I$21<>"",'Data Import'!$I$21,"") -> 3483 | T18: =IF('Data Import'!$I$22<>"",'Data Import'!$I$22,"") -> 3913 | U18: =IF('Data Import'!$I$23<>"",'Data Import'!$I$23,"") -> 6 | V18: =IF('Data Import'!$I$24<>"",'Data Import'!$I$24,"") -> 6 | W18: =IF('Data Import'!$I$25<>"",'Data Import'!$I$25,"") | X18: =IF('Data Import'!$I$26<>"",'Data Import'!$I$26,"") | Y18: =IF('Data Import'!$I$27<>"",'Data Import'!$I$27,"")
A19: 7 | B19: Сахалинская область | C19: =IF('Data Import'!$J$7="Нет","+","") | D19: =IF('Data Import'!$J$7="Не требуется","+","") | E19: =IF('Data Import'!$J$8="Нет","+","") | F19: =IF('Data Import'!$J$9="Нет","+","") | G19: =IF('Data Import'!$J$10<>"",'Data Import'!$J$10,"") -> Создание и развитие служб «социального такси» в Сахалинской области | H19: =IF('Data Import'!$J$11<>"",'Data Import'!$J$11,"") -> ед. | I19: =IF('Data Import'!$J$12<>"",'Data Import'!$J$12,"") -> 1370 | J19: =IF('Data Import'!$J$13<>"",'Data Import'!$J$13,"") -> 7008 | K19: =IF('Data Import'!$J$14="Нет","+","") | L19: =IF('Data Import'!$J$15<>"",'Data Import'!$J$15,"") | M19: =IF('Data Import'!$J$14="Да","+","") -> + | N19: =IF('Data Import'!$J$16<>"",'Data Import'!$J$16,"") -> Приказ Министерства социальной защиты Сахалинской области от 09.09.2021 N 272-н "Об утверждении Порядка предоставления социальных услуг поставщиками социальных услуг в Сахалинской области" | O19: =IF('Data Import'!$J$17<>"",'Data Import'!$J$17,"") -> 18 | P19: =IF('Data Import'!$J$18<>"",'Data Import'!$J$18,"") -> 3 | Q19: =IF('Data Import'!$J$19<>"",'Data Import'!$J$19,"") -> 9 | R19: =IF('Data Import'!$J$20<>"",'Data Import'!$J$20,"") -> 10 | S19: =IF('Data Import'!$J$21<>"",'Data Import'!$J$21,"") -> 6702 | T19: =IF('Data Import'!$J$22<>"",'Data Import'!$J$22,"") -> 7008 | U19: =IF('Data Import'!$J$23<>"",'Data Import'!$J$23,"") -> 9 | V19: =IF('Data Import'!$J$24<>"",'Data Import'!$J$24,"") -> 10 | W19: =IF('Data Import'!$J$25<>"",'Data Import'!$J$25,"") -> 0 | X19: =IF('Data Import'!$J$26<>"",'Data Import'!$J$26,"") -> 0 | Y19: =IF('Data Import'!$J$27<>"",'Data Import'!$J$27,"") -> 0
A20: 8 | B20: Хабаровский край | C20: =IF('Data Import'!$K$7="Нет","+","") -> + | D20: =IF('Data Import'!$K$7="Не требуется","+","") | E20: =IF('Data Import'!$K$8="Нет","+","") | F20: =IF('Data Import'!$K$9="Нет","+","") | G20: =IF('Data Import'!$K$10<>"",'Data Import'!$K$10,"") | H20: =IF('Data Import'!$K$11<>"",'Data Import'!$K$11,"") | I20: =IF('Data Import'!$K$12<>"",'Data Import'!$K$12,"") | J20: =IF('Data Import'!$K$13<>"",'Data Import'!$K$13,"") | K20: =IF('Data Import'!$K$14="Нет","+","") | L20: =IF('Data Import'!$K$15<>"",'Data Import'!$K$15,"") | M20: =IF('Data Import'!$K$14="Да","+","") | N20: =IF('Data Import'!$K$16<>"",'Data Import'!$K$16,"") | O20: =IF('Data Import'!$K$17<>"",'Data Import'!$K$17,"") | P20: =IF('Data Import'!$K$18<>"",'Data Import'!$K$18,"") | Q20: =IF('Data Import'!$K$19<>"",'Data Import'!$K$19,"") | R20: =IF('Data Import'!$K$20<>"",'Data Import'!$K$20,"") | S20: =IF('Data Import'!$K$21<>"",'Data Import'!$K$21,"") | T20: =IF('Data Import'!$K$22<>"",'Data Import'!$K$22,"") | U20: =IF('Data Import'!$K$23<>"",'Data Import'!$K$23,"") | V20: =IF('Data Import'!$K$24<>"",'Data Import'!$K$24,"") | W20: =IF('Data Import'!$K$25<>"",'Data Import'!$K$25,"") | X20: =IF('Data Import'!$K$26<>"",'Data Import'!$K$26,"") | Y20: =IF('Data Import'!$K$27<>"",'Data Import'!$K$27,"")
A21: 9 | B21: Чукотский автономный округ | C21: =IF('Data Import'!$L$7="Нет","+","") | D21: =IF('Data Import'!$L$7="Не требуется","+","") | E21: =IF('Data Import'!$L$8="Нет","+","") | F21: =IF('Data Import'!$L$9="Нет","+","") -> + | G21: =IF('Data Import'!$L$10<>"",'Data Import'!$L$10,"") | H21: =IF('Data Import'!$L$11<>"",'Data Import'!$L$11,"") | I21: =IF('Data Import'!$L$12<>"",'Data Import'!$L$12,"") | J21: =IF('Data Import'!$L$13<>"",'Data Import'!$L$13,"") | K21: =IF('Data Import'!$L$14="Нет","+","") -> + | L21: =IF('Data Import'!$L$15<>"",'Data Import'!$L$15,"") | M21: =IF('Data Import'!$L$14="Да","+","") | N21: =IF('Data Import'!$L$16<>"",'Data Import'!$L$16,"") -> Приказ Департамента социальной политики Чукотского автономного округа от 27 ноября 2025 г. N 1882 "Об утверждении Порядка оказания дополнительной меры социальной поддержки по транспортному обслуживанию маломобильных граждан с использованием специальных автотранспортных средств" | O21: =IF('Data Import'!$L$17<>"",'Data Import'!$L$17,"") -> 7 | P21: =IF('Data Import'!$L$18<>"",'Data Import'!$L$18,"") | Q21: =IF('Data Import'!$L$19<>"",'Data Import'!$L$19,"") | R21: =IF('Data Import'!$L$20<>"",'Data Import'!$L$20,"") | S21: =IF('Data Import'!$L$21<>"",'Data Import'!$L$21,"") | T21: =IF('Data Import'!$L$22<>"",'Data Import'!$L$22,"") | U21: =IF('Data Import'!$L$23<>"",'Data Import'!$L$23,"") | V21: =IF('Data Import'!$L$24<>"",'Data Import'!$L$24,"") | W21: =IF('Data Import'!$L$25<>"",'Data Import'!$L$25,"") | X21: =IF('Data Import'!$L$26<>"",'Data Import'!$L$26,"") | Y21: =IF('Data Import'!$L$27<>"",'Data Import'!$L$27,"")
A22: 10 | B22: Кировская область | C22: =IF('Data Import'!$M$7="Нет","+","") -> + | D22: =IF('Data Import'!$M$7="Не требуется","+","") | E22: =IF('Data Import'!$M$8="Нет","+","") | F22: =IF('Data Import'!$M$9="Нет","+","") | G22: =IF('Data Import'!$M$10<>"",'Data Import'!$M$10,"") | H22: =IF('Data Import'!$M$11<>"",'Data Import'!$M$11,"") | I22: =IF('Data Import'!$M$12<>"",'Data Import'!$M$12,"") | J22: =IF('Data Import'!$M$13<>"",'Data Import'!$M$13,"") | K22: =IF('Data Import'!$M$14="Нет","+","") | L22: =IF('Data Import'!$M$15<>"",'Data Import'!$M$15,"") | M22: =IF('Data Import'!$M$14="Да","+","") | N22: =IF('Data Import'!$M$16<>"",'Data Import'!$M$16,"") | O22: =IF('Data Import'!$M$17<>"",'Data Import'!$M$17,"") | P22: =IF('Data Import'!$M$18<>"",'Data Import'!$M$18,"") | Q22: =IF('Data Import'!$M$19<>"",'Data Import'!$M$19,"") | R22: =IF('Data Import'!$M$20<>"",'Data Import'!$M$20,"") | S22: =IF('Data Import'!$M$21<>"",'Data Import'!$M$21,"") | T22: =IF('Data Import'!$M$22<>"",'Data Import'!$M$22,"") | U22: =IF('Data Import'!$M$23<>"",'Data Import'!$M$23,"") | V22: =IF('Data Import'!$M$24<>"",'Data Import'!$M$24,"") | W22: =IF('Data Import'!$M$25<>"",'Data Import'!$M$25,"") | X22: =IF('Data Import'!$M$26<>"",'Data Import'!$M$26,"") | Y22: =IF('Data Import'!$M$27<>"",'Data Import'!$M$27,"")
A23: 11 | B23: Нижегородская область | C23: =IF('Data Import'!$N$7="Нет","+","") | D23: =IF('Data Import'!$N$7="Не требуется","+","") | E23: =IF('Data Import'!$N$8="Нет","+","") | F23: =IF('Data Import'!$N$9="Нет","+","") -> + | G23: =IF('Data Import'!$N$10<>"",'Data Import'!$N$10,"") -> 2.12. Организация транспортного обслуживания инвалидов ("социальное такси") | H23: =IF('Data Import'!$N$11<>"",'Data Import'!$N$11,"") | I23: =IF('Data Import'!$N$12<>"",'Data Import'!$N$12,"") | J23: =IF('Data Import'!$N$13<>"",'Data Import'!$N$13,"") | K23: =IF('Data Import'!$N$14="Нет","+","") | L23: =IF('Data Import'!$N$15<>"",'Data Import'!$N$15,"") | M23: =IF('Data Import'!$N$14="Да","+","") -> + | N23: =IF('Data Import'!$N$16<>"",'Data Import'!$N$16,"") -> Услуга регулируется Порядком предоставления отдельным категориям граждан специализированной транспортной услуги службой «Социальное такси», утвержденным внутренними приказами учреждений социального обслуживания. | O23: =IF('Data Import'!$N$17<>"",'Data Import'!$N$17,"") -> 50 | P23: =IF('Data Import'!$N$18<>"",'Data Import'!$N$18,"") -> 7 | Q23: =IF('Data Import'!$N$19<>"",'Data Import'!$N$19,"") -> 14 | R23: =IF('Data Import'!$N$20<>"",'Data Import'!$N$20,"") -> 14 | S23: =IF('Data Import'!$N$21<>"",'Data Import'!$N$21,"") -> 1499 | T23: =IF('Data Import'!$N$22<>"",'Data Import'!$N$22,"") -> 1630 | U23: =IF('Data Import'!$N$23<>"",'Data Import'!$N$23,"") -> 14 | V23: =IF('Data Import'!$N$24<>"",'Data Import'!$N$24,"") -> 14 | W23: =IF('Data Import'!$N$25<>"",'Data Import'!$N$25,"") -> 1 | X23: =IF('Data Import'!$N$26<>"",'Data Import'!$N$26,"") -> 0 | Y23: =IF('Data Import'!$N$27<>"",'Data Import'!$N$27,"") -> 7
A24: 12 | B24: Оренбургская область | C24: =IF('Data Import'!$O$7="Нет","+","") | D24: =IF('Data Import'!$O$7="Не требуется","+","") | E24: =IF('Data Import'!$O$8="Нет","+","") | F24: =IF('Data Import'!$O$9="Нет","+","") -> + | G24: =IF('Data Import'!$O$10<>"",'Data Import'!$O$10,"") | H24: =IF('Data Import'!$O$11<>"",'Data Import'!$O$11,"") | I24: =IF('Data Import'!$O$12<>"",'Data Import'!$O$12,"") | J24: =IF('Data Import'!$O$13<>"",'Data Import'!$O$13,"") | K24: =IF('Data Import'!$O$14="Нет","+","") | L24: =IF('Data Import'!$O$15<>"",'Data Import'!$O$15,"") | M24: =IF('Data Import'!$O$14="Да","+","") -> + | N24: =IF('Data Import'!$O$16<>"",'Data Import'!$O$16,"") | O24: =IF('Data Import'!$O$17<>"",'Data Import'!$O$17,"") -> 42 | P24: =IF('Data Import'!$O$18<>"",'Data Import'!$O$18,"") -> 2 | Q24: =IF('Data Import'!$O$19<>"",'Data Import'!$O$19,"") -> 3 | R24: =IF('Data Import'!$O$20<>"",'Data Import'!$O$20,"") -> 3 | S24: =IF('Data Import'!$O$21<>"",'Data Import'!$O$21,"") -> 54 | T24: =IF('Data Import'!$O$22<>"",'Data Import'!$O$22,"") -> 446 | U24: =IF('Data Import'!$O$23<>"",'Data Import'!$O$23,"") -> 5 | V24: =IF('Data Import'!$O$24<>"",'Data Import'!$O$24,"") -> 7 | W24: =IF('Data Import'!$O$25<>"",'Data Import'!$O$25,"") -> 2 | X24: =IF('Data Import'!$O$26<>"",'Data Import'!$O$26,"") -> 2 | Y24: =IF('Data Import'!$O$27<>"",'Data Import'!$O$27,"") -> 1
A25: 13 | B25: Пензенская область | C25: =IF('Data Import'!$P$7="Нет","+","") | D25: =IF('Data Import'!$P$7="Не требуется","+","") | E25: =IF('Data Import'!$P$8="Нет","+","") | F25: =IF('Data Import'!$P$9="Нет","+","") | G25: =IF('Data Import'!$P$10<>"",'Data Import'!$P$10,"") -> Доля граждан, охваченных услугами, из числа граждан, имеющих право на данную услугу, и обратившихся за оказанием услуги - 100% | H25: =IF('Data Import'!$P$11<>"",'Data Import'!$P$11,"") -> % | I25: =IF('Data Import'!$P$12<>"",'Data Import'!$P$12,"") -> 100 | J25: =IF('Data Import'!$P$13<>"",'Data Import'!$P$13,"") -> 100 | K25: =IF('Data Import'!$P$14="Нет","+","") | L25: =IF('Data Import'!$P$15<>"",'Data Import'!$P$15,"") | M25: =IF('Data Import'!$P$14="Да","+","") -> + | N25: =IF('Data Import'!$P$16<>"",'Data Import'!$P$16,"") -> "Постановление Правительства Пензенской обл. от 30.10.2013 № 805-п ""Об утверждении государственной программы Пензенской области ""Социальная поддержка граждан в Пензенской области""; постановление администрации г. Пензы от 30.12.2021 № 2015 ""Об утверждении Порядка предоставления дополнительных мер социальной поддержки гражданам, имеющим заболевания опорно-двигательного аппарата, в виде оказания транспортных услуг к объектам социальной инфраструктуры и к объектам регионального значения, расположенным на территории г. Пензы""; постановление Администрации г.Заречного от 06.07.2020 № 1027 «Об утверждении Порядка предоставления трансполртных услуг гражданам, имеющим заболевания опорно-двигательного аппарата, к объектам социальной инфраструктуры»; постановление Администрации г. Кузнецка от 28.02.2023 № 296 (ред. от 04.03.2024) ""Об утверждении Порядка об условиях предоставления и порядке учета использования социального такси в городе Кузнецке"" (вместе с ""Порядком организации мероприятий по созданию условий для предоставления транспортных услуг гражданам, имеющим заболевания опорно-двигательного аппарата, к объектам социальной инфраструктуры"")" | O25: =IF('Data Import'!$P$17<>"",'Data Import'!$P$17,"") -> 30 | P25: =IF('Data Import'!$P$18<>"",'Data Import'!$P$18,"") -> 4 | Q25: =IF('Data Import'!$P$19<>"",'Data Import'!$P$19,"") -> 4 | R25: =IF('Data Import'!$P$20<>"",'Data Import'!$P$20,"") -> 4 | S25: =IF('Data Import'!$P$21<>"",'Data Import'!$P$21,"") -> 2233 | T25: =IF('Data Import'!$P$22<>"",'Data Import'!$P$22,"") -> 1600 | U25: =IF('Data Import'!$P$23<>"",'Data Import'!$P$23,"") -> 7 | V25: =IF('Data Import'!$P$24<>"",'Data Import'!$P$24,"") -> 8 | W25: =IF('Data Import'!$P$25<>"",'Data Import'!$P$25,"") -> 7 | X25: =IF('Data Import'!$P$26<>"",'Data Import'!$P$26,"") -> 8 | Y25: =IF('Data Import'!$P$27<>"",'Data Import'!$P$27,"") -> 8
A26: 14 | B26: Пермский край | C26: =IF('Data Import'!$Q$7="Нет","+","") | D26: =IF('Data Import'!$Q$7="Не требуется","+","") | E26: =IF('Data Import'!$Q$8="Нет","+","") | F26: =IF('Data Import'!$Q$9="Нет","+","") -> + | G26: =IF('Data Import'!$Q$10<>"",'Data Import'!$Q$10,"") | H26: =IF('Data Import'!$Q$11<>"",'Data Import'!$Q$11,"") | I26: =IF('Data Import'!$Q$12<>"",'Data Import'!$Q$12,"") | J26: =IF('Data Import'!$Q$13<>"",'Data Import'!$Q$13,"") | K26: =IF('Data Import'!$Q$14="Нет","+","") | L26: =IF('Data Import'!$Q$15<>"",'Data Import'!$Q$15,"") | M26: =IF('Data Import'!$Q$14="Да","+","") -> + | N26: =IF('Data Import'!$Q$16<>"",'Data Import'!$Q$16,"") -> ПРИКАЗ Министерства социального развития Пермского края от 26 мая 2021 г. N 33-01-03-338 «Об утверждении положения о предоставлении транспортных услуг отдельным категориям инвалидов для обеспечения доступа к объектам социальной инфраструктуры» | O26: =IF('Data Import'!$Q$17<>"",'Data Import'!$Q$17,"") -> 43 | P26: =IF('Data Import'!$Q$18<>"",'Data Import'!$Q$18,"") -> 14 | Q26: =IF('Data Import'!$Q$19<>"",'Data Import'!$Q$19,"") -> 27 | R26: =IF('Data Import'!$Q$20<>"",'Data Import'!$Q$20,"") -> 28 | S26: =IF('Data Import'!$Q$21<>"",'Data Import'!$Q$21,"") -> 10599 | T26: =IF('Data Import'!$Q$22<>"",'Data Import'!$Q$22,"") -> 9399 | U26: =IF('Data Import'!$Q$23<>"",'Data Import'!$Q$23,"") -> 27 | V26: =IF('Data Import'!$Q$24<>"",'Data Import'!$Q$24,"") -> 28 | W26: =IF('Data Import'!$Q$25<>"",'Data Import'!$Q$25,"") -> 27 | X26: =IF('Data Import'!$Q$26<>"",'Data Import'!$Q$26,"") -> 28 | Y26: =IF('Data Import'!$Q$27<>"",'Data Import'!$Q$27,"") -> 0
A27: 15 | B27: Республика Башкортостан | C27: =IF('Data Import'!$R$7="Нет","+","") | D27: =IF('Data Import'!$R$7="Не требуется","+","") | E27: =IF('Data Import'!$R$8="Нет","+","") -> + | F27: =IF('Data Import'!$R$9="Нет","+","") | G27: =IF('Data Import'!$R$10<>"",'Data Import'!$R$10,"") | H27: =IF('Data Import'!$R$11<>"",'Data Import'!$R$11,"") | I27: =IF('Data Import'!$R$12<>"",'Data Import'!$R$12,"") | J27: =IF('Data Import'!$R$13<>"",'Data Import'!$R$13,"") | K27: =IF('Data Import'!$R$14="Нет","+","") -> + | L27: =IF('Data Import'!$R$15<>"",'Data Import'!$R$15,"") | M27: =IF('Data Import'!$R$14="Да","+","") | N27: =IF('Data Import'!$R$16<>"",'Data Import'!$R$16,"") -> "1. Постановление Правительства Республики Башкортостан от 22.11.2024 №488 «Об утверждении Порядка организации предоставления услуги по перевозке детей-инвалидов, инвалидов I группы, проживающих на территории Республики Башкортостан»; 2. Постановление Республики Башкортостан от 31.12.2014 № 664 ""Об утверждении порядка предоставления срочных социальных услуг поставщиками социальных услуг""; 3. Закон Республики Башкортостан от 22.11.2020 №,359-з ""О внесении изменений в закон Республики Башкортостан ""О Социальном обслуживании граждан в Республике Башкортостан""" | O27: =IF('Data Import'!$R$17<>"",'Data Import'!$R$17,"") -> 63 | P27: =IF('Data Import'!$R$18<>"",'Data Import'!$R$18,"") -> 1 | Q27: =IF('Data Import'!$R$19<>"",'Data Import'!$R$19,"") | R27: =IF('Data Import'!$R$20<>"",'Data Import'!$R$20,"") | S27: =IF('Data Import'!$R$21<>"",'Data Import'!$R$21,"") | T27: =IF('Data Import'!$R$22<>"",'Data Import'!$R$22,"") | U27: =IF('Data Import'!$R$23<>"",'Data Import'!$R$23,"") | V27: =IF('Data Import'!$R$24<>"",'Data Import'!$R$24,"") | W27: =IF('Data Import'!$R$25<>"",'Data Import'!$R$25,"") | X27: =IF('Data Import'!$R$26<>"",'Data Import'!$R$26,"") | Y27: =IF('Data Import'!$R$27<>"",'Data Import'!$R$27,"")
A28: 16 | B28: Республика Марий Эл | C28: =IF('Data Import'!$S$7="Нет","+","") | D28: =IF('Data Import'!$S$7="Не требуется","+","") | E28: =IF('Data Import'!$S$8="Нет","+","") | F28: =IF('Data Import'!$S$9="Нет","+","") | G28: =IF('Data Import'!$S$10<>"",'Data Import'!$S$10,"") -> обслужено человек службой "Социальное такси" | H28: =IF('Data Import'!$S$11<>"",'Data Import'!$S$11,"") -> чел. | I28: =IF('Data Import'!$S$12<>"",'Data Import'!$S$12,"") -> 800 | J28: =IF('Data Import'!$S$13<>"",'Data Import'!$S$13,"") -> 884 | K28: =IF('Data Import'!$S$14="Нет","+","") | L28: =IF('Data Import'!$S$15<>"",'Data Import'!$S$15,"") | M28: =IF('Data Import'!$S$14="Да","+","") -> + | N28: =IF('Data Import'!$S$16<>"",'Data Import'!$S$16,"") -> приказ Министерства социального развития Республики Марий Эл от 18 сентября 2018 г. № 347 "Об утверждении Типового положения о порядке предоставления дополнительной (платной) социальной услуги "Социальное такси" | O28: =IF('Data Import'!$S$17<>"",'Data Import'!$S$17,"") -> 17 | P28: =IF('Data Import'!$S$18<>"",'Data Import'!$S$18,"") -> 3 | Q28: =IF('Data Import'!$S$19<>"",'Data Import'!$S$19,"") -> 2 | R28: =IF('Data Import'!$S$20<>"",'Data Import'!$S$20,"") -> 3 | S28: =IF('Data Import'!$S$21<>"",'Data Import'!$S$21,"") -> 617 | T28: =IF('Data Import'!$S$22<>"",'Data Import'!$S$22,"") -> 884 | U28: =IF('Data Import'!$S$23<>"",'Data Import'!$S$23,"") -> 2 | V28: =IF('Data Import'!$S$24<>"",'Data Import'!$S$24,"") -> 3 | W28: =IF('Data Import'!$S$25<>"",'Data Import'!$S$25,"") -> 2 | X28: =IF('Data Import'!$S$26<>"",'Data Import'!$S$26,"") -> 3 | Y28: =IF('Data Import'!$S$27<>"",'Data Import'!$S$27,"") -> 0
A29: 17 | B29: Республика Мордовия | C29: =IF('Data Import'!$T$7="Нет","+","") | D29: =IF('Data Import'!$T$7="Не требуется","+","") | E29: =IF('Data Import'!$T$8="Нет","+","") | F29: =IF('Data Import'!$T$9="Нет","+","") | G29: =IF('Data Import'!$T$10<>"",'Data Import'!$T$10,"") | H29: =IF('Data Import'!$T$11<>"",'Data Import'!$T$11,"") | I29: =IF('Data Import'!$T$12<>"",'Data Import'!$T$12,"") | J29: =IF('Data Import'!$T$13<>"",'Data Import'!$T$13,"") | K29: =IF('Data Import'!$T$14="Нет","+","") | L29: =IF('Data Import'!$T$15<>"",'Data Import'!$T$15,"") | M29: =IF('Data Import'!$T$14="Да","+","") | N29: =IF('Data Import'!$T$16<>"",'Data Import'!$T$16,"") | O29: =IF('Data Import'!$T$17<>"",'Data Import'!$T$17,"") | P29: =IF('Data Import'!$T$18<>"",'Data Import'!$T$18,"") | Q29: =IF('Data Import'!$T$19<>"",'Data Import'!$T$19,"") | R29: =IF('Data Import'!$T$20<>"",'Data Import'!$T$20,"") | S29: =IF('Data Import'!$T$21<>"",'Data Import'!$T$21,"") | T29: =IF('Data Import'!$T$22<>"",'Data Import'!$T$22,"") | U29: =IF('Data Import'!$T$23<>"",'Data Import'!$T$23,"") | V29: =IF('Data Import'!$T$24<>"",'Data Import'!$T$24,"") | W29: =IF('Data Import'!$T$25<>"",'Data Import'!$T$25,"") | X29: =IF('Data Import'!$T$26<>"",'Data Import'!$T$26,"") | Y29: =IF('Data Import'!$T$27<>"",'Data Import'!$T$27,"")
A30: 18 | B30: Республика Татарстан | C30: =IF('Data Import'!$U$7="Нет","+","") | D30: =IF('Data Import'!$U$7="Не требуется","+","") | E30: =IF('Data Import'!$U$8="Нет","+","") | F30: =IF('Data Import'!$U$9="Нет","+","") | G30: =IF('Data Import'!$U$10<>"",'Data Import'!$U$10,"") | H30: =IF('Data Import'!$U$11<>"",'Data Import'!$U$11,"") | I30: =IF('Data Import'!$U$12<>"",'Data Import'!$U$12,"") | J30: =IF('Data Import'!$U$13<>"",'Data Import'!$U$13,"") | K30: =IF('Data Import'!$U$14="Нет","+","") | L30: =IF('Data Import'!$U$15<>"",'Data Import'!$U$15,"") | M30: =IF('Data Import'!$U$14="Да","+","") | N30: =IF('Data Import'!$U$16<>"",'Data Import'!$U$16,"") | O30: =IF('Data Import'!$U$17<>"",'Data Import'!$U$17,"") | P30: =IF('Data Import'!$U$18<>"",'Data Import'!$U$18,"") | Q30: =IF('Data Import'!$U$19<>"",'Data Import'!$U$19,"") | R30: =IF('Data Import'!$U$20<>"",'Data Import'!$U$20,"") | S30: =IF('Data Import'!$U$21<>"",'Data Import'!$U$21,"") | T30: =IF('Data Import'!$U$22<>"",'Data Import'!$U$22,"") | U30: =IF('Data Import'!$U$23<>"",'Data Import'!$U$23,"") | V30: =IF('Data Import'!$U$24<>"",'Data Import'!$U$24,"") | W30: =IF('Data Import'!$U$25<>"",'Data Import'!$U$25,"") | X30: =IF('Data Import'!$U$26<>"",'Data Import'!$U$26,"") | Y30: =IF('Data Import'!$U$27<>"",'Data Import'!$U$27,"")
A31: 19 | B31: Самарская область | C31: =IF('Data Import'!$V$7="Нет","+","") | D31: =IF('Data Import'!$V$7="Не требуется","+","") | E31: =IF('Data Import'!$V$8="Нет","+","") | F31: =IF('Data Import'!$V$9="Нет","+","") | G31: =IF('Data Import'!$V$10<>"",'Data Import'!$V$10,"") | H31: =IF('Data Import'!$V$11<>"",'Data Import'!$V$11,"") | I31: =IF('Data Import'!$V$12<>"",'Data Import'!$V$12,"") | J31: =IF('Data Import'!$V$13<>"",'Data Import'!$V$13,"") | K31: =IF('Data Import'!$V$14="Нет","+","") | L31: =IF('Data Import'!$V$15<>"",'Data Import'!$V$15,"") | M31: =IF('Data Import'!$V$14="Да","+","") | N31: =IF('Data Import'!$V$16<>"",'Data Import'!$V$16,"") | O31: =IF('Data Import'!$V$17<>"",'Data Import'!$V$17,"") | P31: =IF('Data Import'!$V$18<>"",'Data Import'!$V$18,"") | Q31: =IF('Data Import'!$V$19<>"",'Data Import'!$V$19,"") | R31: =IF('Data Import'!$V$20<>"",'Data Import'!$V$20,"") | S31: =IF('Data Import'!$V$21<>"",'Data Import'!$V$21,"") | T31: =IF('Data Import'!$V$22<>"",'Data Import'!$V$22,"") | U31: =IF('Data Import'!$V$23<>"",'Data Import'!$V$23,"") | V31: =IF('Data Import'!$V$24<>"",'Data Import'!$V$24,"") | W31: =IF('Data Import'!$V$25<>"",'Data Import'!$V$25,"") | X31: =IF('Data Import'!$V$26<>"",'Data Import'!$V$26,"") | Y31: =IF('Data Import'!$V$27<>"",'Data Import'!$V$27,"")
A32: 20 | B32: Саратовская область | C32: =IF('Data Import'!$W$7="Нет","+","") | D32: =IF('Data Import'!$W$7="Не требуется","+","") | E32: =IF('Data Import'!$W$8="Нет","+","") -> + | F32: =IF('Data Import'!$W$9="Нет","+","") | G32: =IF('Data Import'!$W$10<>"",'Data Import'!$W$10,"") | H32: =IF('Data Import'!$W$11<>"",'Data Import'!$W$11,"") | I32: =IF('Data Import'!$W$12<>"",'Data Import'!$W$12,"") | J32: =IF('Data Import'!$W$13<>"",'Data Import'!$W$13,"") | K32: =IF('Data Import'!$W$14="Нет","+","") | L32: =IF('Data Import'!$W$15<>"",'Data Import'!$W$15,"") | M32: =IF('Data Import'!$W$14="Да","+","") | N32: =IF('Data Import'!$W$16<>"",'Data Import'!$W$16,"") -> . | O32: =IF('Data Import'!$W$17<>"",'Data Import'!$W$17,"") -> 41 | P32: =IF('Data Import'!$W$18<>"",'Data Import'!$W$18,"") -> 1 | Q32: =IF('Data Import'!$W$19<>"",'Data Import'!$W$19,"") -> 11 | R32: =IF('Data Import'!$W$20<>"",'Data Import'!$W$20,"") -> 11 | S32: =IF('Data Import'!$W$21<>"",'Data Import'!$W$21,"") -> 5208 | T32: =IF('Data Import'!$W$22<>"",'Data Import'!$W$22,"") -> 5460 | U32: =IF('Data Import'!$W$23<>"",'Data Import'!$W$23,"") -> 11 | V32: =IF('Data Import'!$W$24<>"",'Data Import'!$W$24,"") -> 11 | W32: =IF('Data Import'!$W$25<>"",'Data Import'!$W$25,"") -> 11 | X32: =IF('Data Import'!$W$26<>"",'Data Import'!$W$26,"") -> 11 | Y32: =IF('Data Import'!$W$27<>"",'Data Import'!$W$27,"") -> 11
A33: 21 | B33: Удмуртская Республика | C33: =IF('Data Import'!$X$7="Нет","+","") | D33: =IF('Data Import'!$X$7="Не требуется","+","") | E33: =IF('Data Import'!$X$8="Нет","+","") | F33: =IF('Data Import'!$X$9="Нет","+","") | G33: =IF('Data Import'!$X$10<>"",'Data Import'!$X$10,"") -> Мероприятие (результат) «Работа службы "Социальное такси" в городах Удмуртской Республики» | H33: =IF('Data Import'!$X$11<>"",'Data Import'!$X$11,"") -> ед. | I33: =IF('Data Import'!$X$12<>"",'Data Import'!$X$12,"") -> 1 | J33: =IF('Data Import'!$X$13<>"",'Data Import'!$X$13,"") -> 1 | K33: =IF('Data Import'!$X$14="Нет","+","") | L33: =IF('Data Import'!$X$15<>"",'Data Import'!$X$15,"") | M33: =IF('Data Import'!$X$14="Да","+","") -> + | N33: =IF('Data Import'!$X$16<>"",'Data Import'!$X$16,"") -> Постановление Правительства Удмуртской Республики от 20.07.2015 № 353 "Об утверждении Положения о порядке предоставления и оплаты услуг социального такси" | O33: =IF('Data Import'!$X$17<>"",'Data Import'!$X$17,"") -> 30 | P33: =IF('Data Import'!$X$18<>"",'Data Import'!$X$18,"") -> 3 | Q33: =IF('Data Import'!$X$19<>"",'Data Import'!$X$19,"") -> 3 | R33: =IF('Data Import'!$X$20<>"",'Data Import'!$X$20,"") -> 3 | S33: =IF('Data Import'!$X$21<>"",'Data Import'!$X$21,"") -> 2400 | T33: =IF('Data Import'!$X$22<>"",'Data Import'!$X$22,"") -> 2096 | U33: =IF('Data Import'!$X$23<>"",'Data Import'!$X$23,"") -> 3 | V33: =IF('Data Import'!$X$24<>"",'Data Import'!$X$24,"") -> 3 | W33: =IF('Data Import'!$X$25<>"",'Data Import'!$X$25,"") -> 0 | X33: =IF('Data Import'!$X$26<>"",'Data Import'!$X$26,"") -> 0 | Y33: =IF('Data Import'!$X$27<>"",'Data Import'!$X$27,"") -> 0
A34: 22 | B34: Ульяновская область | C34: =IF('Data Import'!$Y$7="Нет","+","") | D34: =IF('Data Import'!$Y$7="Не требуется","+","") | E34: =IF('Data Import'!$Y$8="Нет","+","") | F34: =IF('Data Import'!$Y$9="Нет","+","") -> + | G34: =IF('Data Import'!$Y$10<>"",'Data Import'!$Y$10,"") | H34: =IF('Data Import'!$Y$11<>"",'Data Import'!$Y$11,"") | I34: =IF('Data Import'!$Y$12<>"",'Data Import'!$Y$12,"") | J34: =IF('Data Import'!$Y$13<>"",'Data Import'!$Y$13,"") | K34: =IF('Data Import'!$Y$14="Нет","+","") | L34: =IF('Data Import'!$Y$15<>"",'Data Import'!$Y$15,"") | M34: =IF('Data Import'!$Y$14="Да","+","") -> + | N34: =IF('Data Import'!$Y$16<>"",'Data Import'!$Y$16,"") -> 1.Решение Ульяновской Городской Думы от 26.02.2014 № 19 "Об установлении меры социальной поддержки инвалидов и других маломобильных групп населения в муниципальном образовании "Город Ульяновск". Постановление Администрации города Ульяновска от 04.09.2014 № 4380 "Об утверждении Порядка предоставления меры социальной поддержки инвалидов и других маломобильных групп населения в муниципальном образовании "город Ульяновск". 2. Решение Городской Думы города Димитровграда Ульяновской области от 14.12.2016 №55671 "Об утверждении Комплекса мер по социальной поддержке отдельных категорий граждан города Димитровграда Ульяновской области". | O34: =IF('Data Import'!$Y$17<>"",'Data Import'!$Y$17,"") -> 24 | P34: =IF('Data Import'!$Y$18<>"",'Data Import'!$Y$18,"") -> 2 | Q34: =IF('Data Import'!$Y$19<>"",'Data Import'!$Y$19,"") -> 12 | R34: =IF('Data Import'!$Y$20<>"",'Data Import'!$Y$20,"") -> 11 | S34: =IF('Data Import'!$Y$21<>"",'Data Import'!$Y$21,"") -> 6124 | T34: =IF('Data Import'!$Y$22<>"",'Data Import'!$Y$22,"") -> 6035 | U34: =IF('Data Import'!$Y$23<>"",'Data Import'!$Y$23,"") -> 13 | V34: =IF('Data Import'!$Y$24<>"",'Data Import'!$Y$24,"") -> 12 | W34: =IF('Data Import'!$Y$25<>"",'Data Import'!$Y$25,"") -> 13 | X34: =IF('Data Import'!$Y$26<>"",'Data Import'!$Y$26,"") -> 12 | Y34: =IF('Data Import'!$Y$27<>"",'Data Import'!$Y$27,"") -> 12
A35: 23 | B35: Чувашская Республика - Чувашия | C35: =IF('Data Import'!$Z$7="Нет","+","") -> + | D35: =IF('Data Import'!$Z$7="Не требуется","+","") | E35: =IF('Data Import'!$Z$8="Нет","+","") | F35: =IF('Data Import'!$Z$9="Нет","+","") | G35: =IF('Data Import'!$Z$10<>"",'Data Import'!$Z$10,"") | H35: =IF('Data Import'!$Z$11<>"",'Data Import'!$Z$11,"") | I35: =IF('Data Import'!$Z$12<>"",'Data Import'!$Z$12,"") | J35: =IF('Data Import'!$Z$13<>"",'Data Import'!$Z$13,"") | K35: =IF('Data Import'!$Z$14="Нет","+","") | L35: =IF('Data Import'!$Z$15<>"",'Data Import'!$Z$15,"") | M35: =IF('Data Import'!$Z$14="Да","+","") | N35: =IF('Data Import'!$Z$16<>"",'Data Import'!$Z$16,"") | O35: =IF('Data Import'!$Z$17<>"",'Data Import'!$Z$17,"") | P35: =IF('Data Import'!$Z$18<>"",'Data Import'!$Z$18,"") | Q35: =IF('Data Import'!$Z$19<>"",'Data Import'!$Z$19,"") | R35: =IF('Data Import'!$Z$20<>"",'Data Import'!$Z$20,"") | S35: =IF('Data Import'!$Z$21<>"",'Data Import'!$Z$21,"") | T35: =IF('Data Import'!$Z$22<>"",'Data Import'!$Z$22,"") | U35: =IF('Data Import'!$Z$23<>"",'Data Import'!$Z$23,"") | V35: =IF('Data Import'!$Z$24<>"",'Data Import'!$Z$24,"") | W35: =IF('Data Import'!$Z$25<>"",'Data Import'!$Z$25,"") | X35: =IF('Data Import'!$Z$26<>"",'Data Import'!$Z$26,"") | Y35: =IF('Data Import'!$Z$27<>"",'Data Import'!$Z$27,"")
A36: 24 | B36: Архангельская область | C36: =IF('Data Import'!$AA$7="Нет","+","") | D36: =IF('Data Import'!$AA$7="Не требуется","+","") | E36: =IF('Data Import'!$AA$8="Нет","+","") -> + | F36: =IF('Data Import'!$AA$9="Нет","+","") | G36: =IF('Data Import'!$AA$10<>"",'Data Import'!$AA$10,"") | H36: =IF('Data Import'!$AA$11<>"",'Data Import'!$AA$11,"") | I36: =IF('Data Import'!$AA$12<>"",'Data Import'!$AA$12,"") | J36: =IF('Data Import'!$AA$13<>"",'Data Import'!$AA$13,"") | K36: =IF('Data Import'!$AA$14="Нет","+","") | L36: =IF('Data Import'!$AA$15<>"",'Data Import'!$AA$15,"") | M36: =IF('Data Import'!$AA$14="Да","+","") | N36: =IF('Data Import'!$AA$16<>"",'Data Import'!$AA$16,"") -> Постановление Правительства Архангельской области от 12 октября 2012 г. № 464-пп "О государственной программе Архангельской области "Социальная поддержка граждан в Архангельской области" | O36: =IF('Data Import'!$AA$17<>"",'Data Import'!$AA$17,"") -> 26 | P36: =IF('Data Import'!$AA$18<>"",'Data Import'!$AA$18,"") -> 1 | Q36: =IF('Data Import'!$AA$19<>"",'Data Import'!$AA$19,"") -> 7 | R36: =IF('Data Import'!$AA$20<>"",'Data Import'!$AA$20,"") -> 7 | S36: =IF('Data Import'!$AA$21<>"",'Data Import'!$AA$21,"") -> 1021 | T36: =IF('Data Import'!$AA$22<>"",'Data Import'!$AA$22,"") -> 1033 | U36: =IF('Data Import'!$AA$23<>"",'Data Import'!$AA$23,"") -> 7 | V36: =IF('Data Import'!$AA$24<>"",'Data Import'!$AA$24,"") -> 7 | W36: =IF('Data Import'!$AA$25<>"",'Data Import'!$AA$25,"") -> 0 | X36: =IF('Data Import'!$AA$26<>"",'Data Import'!$AA$26,"") -> 0 | Y36: =IF('Data Import'!$AA$27<>"",'Data Import'!$AA$27,"") -> 0
